BEGIN:VCALENDAR
VERSION:2.0
PRODID:-//Mairie Saint-Hilaire-Saint-Mesmin - ECPv6.15.17.1//NONSGML v1.0//EN
CALSCALE:GREGORIAN
METHOD:PUBLISH
X-WR-CALNAME:Mairie Saint-Hilaire-Saint-Mesmin
X-ORIGINAL-URL:https://www.saint-hilaire-saint-mesmin.fr
X-WR-CALDESC:Évènements pour Mairie Saint-Hilaire-Saint-Mesmin
REFRESH-INTERVAL;VALUE=DURATION:PT1H
X-Robots-Tag:noindex
X-PUBLISHED-TTL:PT1H
BEGIN:VTIMEZONE
TZID:Europe/Paris
BEGIN:DAYLIGHT
TZOFFSETFROM:+0100
TZOFFSETTO:+0200
TZNAME:CEST
DTSTART:20240331T010000
END:DAYLIGHT
BEGIN:STANDARD
TZOFFSETFROM:+0200
TZOFFSETTO:+0100
TZNAME:CET
DTSTART:20241027T010000
END:STANDARD
BEGIN:DAYLIGHT
TZOFFSETFROM:+0100
TZOFFSETTO:+0200
TZNAME:CEST
DTSTART:20250330T010000
END:DAYLIGHT
BEGIN:STANDARD
TZOFFSETFROM:+0200
TZOFFSETTO:+0100
TZNAME:CET
DTSTART:20251026T010000
END:STANDARD
BEGIN:DAYLIGHT
TZOFFSETFROM:+0100
TZOFFSETTO:+0200
TZNAME:CEST
DTSTART:20260329T010000
END:DAYLIGHT
BEGIN:STANDARD
TZOFFSETFROM:+0200
TZOFFSETTO:+0100
TZNAME:CET
DTSTART:20261025T010000
END:STANDARD
END:VTIMEZONE
BEGIN:VEVENT
DTSTART;TZID=Europe/Paris:20251004T133000
DTEND;TZID=Europe/Paris:20251004T170000
DTSTAMP:20260420T064753
CREATED:20250826T064111Z
LAST-MODIFIED:20250826T064111Z
UID:3227-1759584600-1759597200@www.saint-hilaire-saint-mesmin.fr
SUMMARY:Les cyclo-randonneurs de la pointe de Courpin
DESCRIPTION:Les Cyclo-Randonneurs de la Pointe de Courpin organiseront le samedi 4 octobre 2025 leur « 16ème balade d’automne ». \nA partir de 14 heures\, au départ de la place des fêtes (rendez-vous à partir de 13 heures 30) à St Hilaire St Mesmin\, les participants auront à parcourir à allure réduite une quinzaine de kilomètres autour de St Hilaire St Mesmin\, encadrés par les Cyclo-Randonneurs de la Pointe de Courpin. \nAvant le retour\, vers 16 heures / 16 heures 30\, ils auront à répondre à un quiz sur la 86ème Semaine Fédérale Internationale de Cyclotourisme qui s’est déroulée à Orléans du 3 au 10 août derniers et qui a traversé St-Hilaire-St-Mesmin les 4 et 8 août. Les meilleures réponses seront récompensées par des lots. \nAvec un vélo de ville\, un VTC ou VTT\, un vélo de route ou gravel\, un VAE ou un tandem\, les amateurs de tous âges sont invités à participer à la « 16ème balade d’automne ». \nComme à l’accoutumée\, les mineurs pourront participer gratuitement à la randonnée à vélo\, alors que adultes auront à régler un droit d’inscription (1€  pour les hilairois(es) et 2€ pour les autres participants) Pour tout renseignement\, appelez Isabelle au 02 38 76 79 16 \n 
URL:https://www.saint-hilaire-saint-mesmin.fr/event/les-cyclo-randonneurs-de-la-pointe-de-courpin/
ATTACH;FMTTYPE=image/jpeg:https://www.saint-hilaire-saint-mesmin.fr/wp-content/uploads/2025/08/Fotolia_117384148_XS.jpg
END:VEVENT
BEGIN:VEVENT
DTSTART;TZID=Europe/Paris:20251004T160000
DTEND;TZID=Europe/Paris:20251004T170000
DTSTAMP:20260420T064753
CREATED:20250826T064218Z
LAST-MODIFIED:20250826T064218Z
UID:3230-1759593600-1759597200@www.saint-hilaire-saint-mesmin.fr
SUMMARY:Maison Anne et Siméon Présente :
DESCRIPTION:
URL:https://www.saint-hilaire-saint-mesmin.fr/event/maison-anne-et-simeon-presente/
LOCATION:Maison Anne et Siméon\, 89 rue du Haut Midi\, Saint-Hilaire-Saint-Mesmin\, France
ATTACH;FMTTYPE=image/jpeg:https://www.saint-hilaire-saint-mesmin.fr/wp-content/uploads/2025/08/theatre-octobre.jpg
END:VEVENT
BEGIN:VEVENT
DTSTART;TZID=Europe/Paris:20251007T190000
DTEND;TZID=Europe/Paris:20251007T210000
DTSTAMP:20260420T064753
CREATED:20250929T143626Z
LAST-MODIFIED:20250929T143626Z
UID:3252-1759863600-1759870800@www.saint-hilaire-saint-mesmin.fr
SUMMARY:Conférence/débat - semaine de la parentalité
DESCRIPTION:
URL:https://www.saint-hilaire-saint-mesmin.fr/event/conference-debat-semaine-de-la-parentalite/
LOCATION:Pôle accueil\, 78 chemin des écoliers\, Saint-Hilaire-Saint-Mesmin\, 45160\, France
ATTACH;FMTTYPE=image/jpeg:https://www.saint-hilaire-saint-mesmin.fr/wp-content/uploads/2025/09/affiche-a4-semaines-de-la-parentalite-2025-3.jpg
ORGANIZER;CN="Mairie":MAILTO:mairie@mairie-st-hilaire-st-mesmin.fr
END:VEVENT
BEGIN:VEVENT
DTSTART;TZID=Europe/Paris:20251010T140000
DTEND;TZID=Europe/Paris:20251010T163000
DTSTAMP:20260420T064753
CREATED:20250925T090721Z
LAST-MODIFIED:20250925T090721Z
UID:3247-1760104800-1760113800@www.saint-hilaire-saint-mesmin.fr
SUMMARY:ATELIER ART FLORAL
DESCRIPTION:ATELIER ART FLORAL             \n–=oOo=– \nL’Association Familiale vous propose un atelier d’art floral qui aura lieu le vendredi 10 octobre 2025 \nde 14H00 à 16H30 à la salle des écolières ou salle bleue. \nCet atelier d’une durée de 2 H est animé par Claudie Bouthier\, créatrice florale. \nPartagez le plaisir de l’art floral en réalisant vous-même une composition ou un bouquet unique en fleurs fraîches dans une ambiance conviviale. \n            Tout est fourni : fleurs de saison\, matériel et accessoires. Vous emportez votre création florale pour un montant de 35 €. \nSi vous êtes intéressée\, inscription  avant le 1er octobre auprès de Mme Nadine Bezy au 06 10 25 29 42.
URL:https://www.saint-hilaire-saint-mesmin.fr/event/atelier-art-floral/
LOCATION:Salle des écolières
ATTACH;FMTTYPE=image/png:https://www.saint-hilaire-saint-mesmin.fr/wp-content/uploads/2025/05/bouquet-felursFichier-1.png
END:VEVENT
BEGIN:VEVENT
DTSTART;TZID=Europe/Paris:20251011T140000
DTEND;TZID=Europe/Paris:20251019T180000
DTSTAMP:20260420T064753
CREATED:20250929T145643Z
LAST-MODIFIED:20250929T145643Z
UID:3264-1760191200-1760896800@www.saint-hilaire-saint-mesmin.fr
SUMMARY:Exposition
DESCRIPTION:
URL:https://www.saint-hilaire-saint-mesmin.fr/event/exposition-2/
LOCATION:Maison Anne et Siméon\, 89 rue du Haut Midi\, Saint-Hilaire-Saint-Mesmin\, France
ATTACH;FMTTYPE=image/jpeg:https://www.saint-hilaire-saint-mesmin.fr/wp-content/uploads/2025/09/expo-oct-25.jpg
END:VEVENT
BEGIN:VEVENT
DTSTART;TZID=Europe/Paris:20251012T090000
DTEND;TZID=Europe/Paris:20251012T120000
DTSTAMP:20260420T064753
CREATED:20250929T145204Z
LAST-MODIFIED:20250929T145204Z
UID:3256-1760259600-1760270400@www.saint-hilaire-saint-mesmin.fr
SUMMARY:Véhicule nomade de la TAO
DESCRIPTION:Dimanche 12 octobre\, la TAO sera présente Place du marché avec son véhicule     NOMADE de 9h à 12h\, afin de vous proposer leurs services tels que : la création d’une carte\, le souscription d’un abonnement\, avoir des informations sur le réseau\, les tarifs\, la location de vélo\, Fléxo… \n 
URL:https://www.saint-hilaire-saint-mesmin.fr/event/vehicule-nomade-de-la-tao/
LOCATION:Sur le Mail
ATTACH;FMTTYPE=image/png:https://www.saint-hilaire-saint-mesmin.fr/wp-content/uploads/2025/09/Tao.png
END:VEVENT
BEGIN:VEVENT
DTSTART;TZID=Europe/Paris:20251012T090000
DTEND;TZID=Europe/Paris:20251012T123000
DTSTAMP:20260420T064753
CREATED:20250929T144754Z
LAST-MODIFIED:20250929T144754Z
UID:3254-1760259600-1760272200@www.saint-hilaire-saint-mesmin.fr
SUMMARY:Marché des producteurs
DESCRIPTION:Le dimanche 12 octobre\, jour de marché de 8h30 à 12h\, les amis de la cave de Mareau aux prés vont presser des pommes et vous pourrez vous        approvisionner d’un jus frais avec tous ses parfums. Les producteurs habituels seront au complet pour vous servir. \nDes emplacements sont disponibles pour le vide grenier accolés au marché. Infos au 07 65 61 19 07 \n 
URL:https://www.saint-hilaire-saint-mesmin.fr/event/marche-des-producteurs-4/
LOCATION:Sur le Mail
ATTACH;FMTTYPE=image/jpeg:https://www.saint-hilaire-saint-mesmin.fr/wp-content/uploads/2021/07/marche-producteur.jpg
ORGANIZER;CN="Mairie":MAILTO:mairie@mairie-st-hilaire-st-mesmin.fr
END:VEVENT
BEGIN:VEVENT
DTSTART;TZID=Europe/Paris:20251016T163000
DTEND;TZID=Europe/Paris:20251016T193000
DTSTAMP:20260420T064753
CREATED:20250929T145532Z
LAST-MODIFIED:20250929T145532Z
UID:3262-1760632200-1760643000@www.saint-hilaire-saint-mesmin.fr
SUMMARY:Atelier "être bien vu"
DESCRIPTION:Le jeudi 16 octobre\, de 16h30 à 19h30\,  parking du Pâtis\, les membres de l’atelier participatif déplacements doux et actifs vous accueilleront sur leur stand consacré à l’éclairage et signalisation des piétons\, trottinettes\, cyclistes… \n 
URL:https://www.saint-hilaire-saint-mesmin.fr/event/atelier-etre-bien-vu/
LOCATION:Site du Pâtis\, St-Hilaire-St-Mesmin\, France
ATTACH;FMTTYPE=image/png:https://www.saint-hilaire-saint-mesmin.fr/wp-content/uploads/2025/09/Image1.png
END:VEVENT
BEGIN:VEVENT
DTSTART;TZID=Europe/Paris:20251026T090000
DTEND;TZID=Europe/Paris:20251026T180000
DTSTAMP:20260420T064753
CREATED:20250929T151917Z
LAST-MODIFIED:20250929T151917Z
UID:3266-1761469200-1761501600@www.saint-hilaire-saint-mesmin.fr
SUMMARY:Expositions les collectionneurs
DESCRIPTION:L’ Association Familiale vous propose de partager un moment sympathique le Dimanche 26 Octobre 2025 de 9H00 à 18h00 à la Salle des Fêtes avec les exposants de notre exposition annuelle « Collections – Passions »; Des collections insolites vous   seront présentées pas de vrais passionnés\, ainsi qu’une présentation de véhicules de collection (voitures et une moto). \n 
URL:https://www.saint-hilaire-saint-mesmin.fr/event/expositions-les-collectionneurs/
LOCATION:Salle Madeleine Tabart\, St-Hilaire-St-Mesmin\, France
ATTACH;FMTTYPE=image/jpeg:https://www.saint-hilaire-saint-mesmin.fr/wp-content/uploads/2022/09/Cuilleres-collection-scaled.jpeg
END:VEVENT
END:VCALENDAR