BEGIN:VCALENDAR
VERSION:2.0
PRODID:-//Mairie Saint-Hilaire-Saint-Mesmin - ECPv6.15.17.1//NONSGML v1.0//EN
CALSCALE:GREGORIAN
METHOD:PUBLISH
X-WR-CALNAME:Mairie Saint-Hilaire-Saint-Mesmin
X-ORIGINAL-URL:https://www.saint-hilaire-saint-mesmin.fr
X-WR-CALDESC:Évènements pour Mairie Saint-Hilaire-Saint-Mesmin
REFRESH-INTERVAL;VALUE=DURATION:PT1H
X-Robots-Tag:noindex
X-PUBLISHED-TTL:PT1H
BEGIN:VTIMEZONE
TZID:Europe/Paris
BEGIN:DAYLIGHT
TZOFFSETFROM:+0100
TZOFFSETTO:+0200
TZNAME:CEST
DTSTART:20240331T010000
END:DAYLIGHT
BEGIN:STANDARD
TZOFFSETFROM:+0200
TZOFFSETTO:+0100
TZNAME:CET
DTSTART:20241027T010000
END:STANDARD
BEGIN:DAYLIGHT
TZOFFSETFROM:+0100
TZOFFSETTO:+0200
TZNAME:CEST
DTSTART:20250330T010000
END:DAYLIGHT
BEGIN:STANDARD
TZOFFSETFROM:+0200
TZOFFSETTO:+0100
TZNAME:CET
DTSTART:20251026T010000
END:STANDARD
BEGIN:DAYLIGHT
TZOFFSETFROM:+0100
TZOFFSETTO:+0200
TZNAME:CEST
DTSTART:20260329T010000
END:DAYLIGHT
BEGIN:STANDARD
TZOFFSETFROM:+0200
TZOFFSETTO:+0100
TZNAME:CET
DTSTART:20261025T010000
END:STANDARD
END:VTIMEZONE
BEGIN:VEVENT
DTSTART;TZID=Europe/Paris:20250906T190000
DTEND;TZID=Europe/Paris:20250906T213000
DTSTAMP:20260420T051816
CREATED:20250822T103823Z
LAST-MODIFIED:20250822T103823Z
UID:3213-1757185200-1757194200@www.saint-hilaire-saint-mesmin.fr
SUMMARY:Cinevoiture organisé par la Comité des fêtes
DESCRIPTION:
URL:https://www.saint-hilaire-saint-mesmin.fr/event/cinevoiture-organise-par-la-comite-des-fetes/
LOCATION:Site du Pâtis\, St-Hilaire-St-Mesmin\, France
END:VEVENT
BEGIN:VEVENT
DTSTART;TZID=Europe/Paris:20250908T080000
DTEND;TZID=Europe/Paris:20250919T170000
DTSTAMP:20260420T051816
CREATED:20250826T062653Z
LAST-MODIFIED:20250826T062653Z
UID:3222-1757318400-1758301200@www.saint-hilaire-saint-mesmin.fr
SUMMARY:RELÈVE DES COMPTEURS D'EAU
DESCRIPTION:La relève annuelle des compteurs d’eau est planifiée sur la commune de SAINT-HILAIRE-SAINT-MESMIN du 08 au 19 septembre 2025 pour les   compteurs non équipés en télérelève. \nCette relève sera réalisée par les agents d’Orléans Métropole. \nEn cas d’absence\, un avis de passage sera déposé dans les boites aux lettres\, comme habituellement. \n 
URL:https://www.saint-hilaire-saint-mesmin.fr/event/releve-des-compteurs-deau/
ATTACH;FMTTYPE=image/jpeg:https://www.saint-hilaire-saint-mesmin.fr/wp-content/uploads/2022/08/compteurs-eau-scaled.jpeg
END:VEVENT
BEGIN:VEVENT
DTSTART;TZID=Europe/Paris:20250913T140000
DTEND;TZID=Europe/Paris:20250913T170000
DTSTAMP:20260420T051816
CREATED:20250826T055916Z
LAST-MODIFIED:20250826T055916Z
UID:3218-1757772000-1757782800@www.saint-hilaire-saint-mesmin.fr
SUMMARY:FORUM des Associations
DESCRIPTION:
URL:https://www.saint-hilaire-saint-mesmin.fr/event/forum-des-associations-4/
LOCATION:Place des fêtes\, Saint-Hilaire-Saint-Mesmin\, 45160
ATTACH;FMTTYPE=image/jpeg:https://www.saint-hilaire-saint-mesmin.fr/wp-content/uploads/2025/08/Affiche-FORUM-des-asso-2025.jpg
ORGANIZER;CN="Mairie":MAILTO:mairie@mairie-st-hilaire-st-mesmin.fr
END:VEVENT
BEGIN:VEVENT
DTSTART;TZID=Europe/Paris:20250914T090000
DTEND;TZID=Europe/Paris:20250914T120000
DTSTAMP:20260420T051816
CREATED:20250826T060145Z
LAST-MODIFIED:20250826T060145Z
UID:3220-1757840400-1757851200@www.saint-hilaire-saint-mesmin.fr
SUMMARY:Le marché des Producteurs
DESCRIPTION:Le marché de rentrée aura lieu le dimanche matin 14 septembre où les producteurs habituels vous attendent\, notamment avec les poires Williams et  Conférence\, et les légumes pour préparer une ratatouille. La structure gonflable amusera les enfants\, le stand Mairie animé par les élus   accueillera les nouveaux habitants\, en leur remettant les documents présentant la commune\, son fonctionnement et tout à chacun pourra discuter avec les représentants de St Hilaire. \nLa métropole avec TAO présentera les nouvelles dispositions de transport et abonnements\, avec également la venue de l’Association 1-Terre Actions pour un atelier  petites réparations et qui récupère vos anciens vélos. Bon dimanche de rencontres et bon marché. \nVide-grenier : pour tous ceux qui pendant les vacances ou autres moments ont fait du tri dans la maison\, ne jetez rien venez au vide-grenier du dimanche matin de 7 h à 13 h  pour une petite matinée détente entre amis\, et participez à l’animation du marché. \nInscription (5 € les 4 mètres) par téléphone au 07 65 61 19 07 \n 
URL:https://www.saint-hilaire-saint-mesmin.fr/event/le-marche-des-producteurs/
LOCATION:Sur le Mail
ATTACH;FMTTYPE=image/jpeg:https://www.saint-hilaire-saint-mesmin.fr/wp-content/uploads/2021/07/marche-producteur.jpg
ORGANIZER;CN="Mairie":MAILTO:mairie@mairie-st-hilaire-st-mesmin.fr
END:VEVENT
BEGIN:VEVENT
DTSTART;TZID=Europe/Paris:20250920T093000
DTEND;TZID=Europe/Paris:20250920T140000
DTSTAMP:20260420T051816
CREATED:20250826T063727Z
LAST-MODIFIED:20250826T063727Z
UID:3224-1758360600-1758376800@www.saint-hilaire-saint-mesmin.fr
SUMMARY:L'Association Coquelicot Organise :
DESCRIPTION:L’association le Coquelicot organise l’atelier collectif et le repas de  \n« cuisine végétale bio et zéro gaspi » samedi 20-09-25  9h30 à 14h salle des fêtes \nPréparation collective d’un buffet d’entrées\, plats et desserts : les tartinables\, les houmous\, les pestos \, les curry\, les crakers\, les gâteaux et dessert  sans sucre. \nSavoir utiliser tout le produit y compris les  fanes et les restes. \n10 places sur inscription\, coût 12€ par personne. 6€ pour les adherent.es \nContact : associationlecoquelicot@gmail.com. 0688800578 \n 
URL:https://www.saint-hilaire-saint-mesmin.fr/event/lassociation-coquelicot-organise/
LOCATION:Salle des fêtes\, St-Hilaire-St-Mesmin\, France
ATTACH;FMTTYPE=image/jpeg:https://www.saint-hilaire-saint-mesmin.fr/wp-content/uploads/2025/08/AdobeStock_1320313129.jpeg
ORGANIZER;CN="Le Coquelicot":MAILTO:associationlecoquelicot@gmail.com 
END:VEVENT
BEGIN:VEVENT
DTSTART;TZID=Europe/Paris:20250921T113000
DTEND;TZID=Europe/Paris:20250921T170000
DTSTAMP:20260420T051816
CREATED:20250822T102228Z
LAST-MODIFIED:20250822T102228Z
UID:3206-1758454200-1758474000@www.saint-hilaire-saint-mesmin.fr
SUMMARY:FESTHILAIRE Présente son Festival de rue : "Y'a d'la joie"
DESCRIPTION:Festhilaire organise pour la première fois son festival de rue : « Y a d’ la joie » \nNous vous attendons nombreux. \nPlus d’informations concernants le contenu des spectacles sur notre blog : http://festhilaire.over-blog.fr
URL:https://www.saint-hilaire-saint-mesmin.fr/event/festhilaire-presente-son-festival-de-rue-ya-dla-joie/
ATTACH;FMTTYPE=image/png:https://www.saint-hilaire-saint-mesmin.fr/wp-content/uploads/2025/08/affiche-definitive.png
END:VEVENT
BEGIN:VEVENT
DTSTART;TZID=Europe/Paris:20250926T190000
DTEND;TZID=Europe/Paris:20250926T210000
DTSTAMP:20260420T051816
CREATED:20250924T065824Z
LAST-MODIFIED:20250924T065824Z
UID:3244-1758913200-1758920400@www.saint-hilaire-saint-mesmin.fr
SUMMARY:Conférence/Débat
DESCRIPTION:
URL:https://www.saint-hilaire-saint-mesmin.fr/event/conference-debat-2/
LOCATION:Pôle scolaire\, 78 chemin des écoliers\, Saint-Hilaire-Saint-Mesmin\, 45160
ATTACH;FMTTYPE=image/jpeg:https://www.saint-hilaire-saint-mesmin.fr/wp-content/uploads/2025/09/Affiche-REAAP-26-09-2025.jpg
ORGANIZER;CN="Mairie":MAILTO:mairie@mairie-st-hilaire-st-mesmin.fr
END:VEVENT
BEGIN:VEVENT
DTSTART;TZID=Europe/Paris:20250927T203000
DTEND;TZID=Europe/Paris:20250928T170000
DTSTAMP:20260420T051816
CREATED:20250822T104054Z
LAST-MODIFIED:20250822T104054Z
UID:3215-1759005000-1759078800@www.saint-hilaire-saint-mesmin.fr
SUMMARY:La Luette présente
DESCRIPTION:30 ANS … Peuchère ! \nça s’fête sur la Canebière \n  \nEt oui peuchère\, La Luette a déjà 30 ans ! \nAlors pour être certains d’avoir du ciel bleu\, nous vous emmenons à Marseille pour fêter ça. \nDirection La Canebière\, avec des mélodies que vous avez sans doute entendu fredonner par vos parents ou vos grands-parents. Elles chantent le soleil\, les petits métiers du Vieux- Port\, l’amitié autour d’un verre de pastis\, et bien sûr des histoires d’amour qui ne finissent pas mal en général … \nEmbarquez pour une heure avec les Pescadous de la Marsiale\, et écoutez nos galéjades
URL:https://www.saint-hilaire-saint-mesmin.fr/event/la-luette-presente-2/
LOCATION:Salle Madeleine Tabart\, St-Hilaire-St-Mesmin\, France
ATTACH;FMTTYPE=image/jpeg:https://www.saint-hilaire-saint-mesmin.fr/wp-content/uploads/2025/08/Luette_30ans_Peuchere_27_28_septembre25.jpg
END:VEVENT
END:VCALENDAR