BEGIN:VCALENDAR
VERSION:2.0
PRODID:-//Mairie Saint-Hilaire-Saint-Mesmin - ECPv6.15.17.1//NONSGML v1.0//EN
CALSCALE:GREGORIAN
METHOD:PUBLISH
X-ORIGINAL-URL:https://www.saint-hilaire-saint-mesmin.fr
X-WR-CALDESC:Évènements pour Mairie Saint-Hilaire-Saint-Mesmin
REFRESH-INTERVAL;VALUE=DURATION:PT1H
X-Robots-Tag:noindex
X-PUBLISHED-TTL:PT1H
BEGIN:VTIMEZONE
TZID:Europe/Paris
BEGIN:DAYLIGHT
TZOFFSETFROM:+0100
TZOFFSETTO:+0200
TZNAME:CEST
DTSTART:20240331T010000
END:DAYLIGHT
BEGIN:STANDARD
TZOFFSETFROM:+0200
TZOFFSETTO:+0100
TZNAME:CET
DTSTART:20241027T010000
END:STANDARD
BEGIN:DAYLIGHT
TZOFFSETFROM:+0100
TZOFFSETTO:+0200
TZNAME:CEST
DTSTART:20250330T010000
END:DAYLIGHT
BEGIN:STANDARD
TZOFFSETFROM:+0200
TZOFFSETTO:+0100
TZNAME:CET
DTSTART:20251026T010000
END:STANDARD
BEGIN:DAYLIGHT
TZOFFSETFROM:+0100
TZOFFSETTO:+0200
TZNAME:CEST
DTSTART:20260329T010000
END:DAYLIGHT
BEGIN:STANDARD
TZOFFSETFROM:+0200
TZOFFSETTO:+0100
TZNAME:CET
DTSTART:20261025T010000
END:STANDARD
END:VTIMEZONE
BEGIN:VEVENT
DTSTART;TZID=Europe/Paris:20250606T143000
DTEND;TZID=Europe/Paris:20250606T163000
DTSTAMP:20260420T003308
CREATED:20250506T065911Z
LAST-MODIFIED:20250506T065911Z
UID:3110-1749220200-1749227400@www.saint-hilaire-saint-mesmin.fr
SUMMARY:Atelier Floral
DESCRIPTION:L’Association Familiale vous propose un atelier d’art floral qui aura lieu le vendredi 6 juin 2025 de 14H30 à 16H30 à la salle des écolières ou salle bleue. Cet atelier d’une durée de 2 H aura lieu 1 fois par trimestre\, et animé par Claudie Bouthier\, créatrice florale. \nPartagez le plaisir de l’art floral en réalisant vous-même une composition ou un bouquet unique en fleurs fraîches dans une ambiance conviviale. Tout est fourni : fleurs de saison\, matériel et accessoires. Vous emportez votre création florale pour un montant de 35 €. \nSi vous êtes intéressés\, contacter Mme Nadine Bezy au 06 10 25 29 42 \n 
URL:https://www.saint-hilaire-saint-mesmin.fr/event/atelier-floral/
LOCATION:Salle des écolières
ATTACH;FMTTYPE=image/png:https://www.saint-hilaire-saint-mesmin.fr/wp-content/uploads/2025/05/bouquet-felursFichier-1.png
END:VEVENT
BEGIN:VEVENT
DTSTART;TZID=Europe/Paris:20250608T090000
DTEND;TZID=Europe/Paris:20250608T123000
DTSTAMP:20260420T003308
CREATED:20250526T072208Z
LAST-MODIFIED:20250526T072208Z
UID:3129-1749373200-1749385800@www.saint-hilaire-saint-mesmin.fr
SUMMARY:Marché "Mangeons Loiret"
DESCRIPTION:Le 8 juin début de la récolte des cerises\, les producteurs habituels vous  accueilleront ainsi que la structure gonflable pour les plus petits. Un groupe de véhicules DS sera exposé pour les grands. Vous pourrez aussi admirer les véhicules anciens détenus par les Hilairois et leurs amis\, motos\, mobylettes\,  scooters\, vieux vélos sont aussi attendus. Profitez de ce rendez-vous de 9h30 à 12h pour échanger vos passions et vos rêves.  Un café ou chocolat accompagné de viennoiseries vous attend. Mais aussi une surprise !!…… \nVous pouvez aussi vous inscrire au vide grenier installé sur le marché au 07 65 61 19 07 \n 
URL:https://www.saint-hilaire-saint-mesmin.fr/event/marche-mangeons-loiret-7/
LOCATION:Sur le Mail
ATTACH;FMTTYPE=image/jpeg:https://www.saint-hilaire-saint-mesmin.fr/wp-content/uploads/2021/06/marche.jpg
ORGANIZER;CN="Mairie":MAILTO:mairie@mairie-st-hilaire-st-mesmin.fr
END:VEVENT
BEGIN:VEVENT
DTSTART;VALUE=DATE:20250613
DTEND;VALUE=DATE:20250616
DTSTAMP:20260420T003308
CREATED:20250526T073015Z
LAST-MODIFIED:20250526T073015Z
UID:3140-1749772800-1750031999@www.saint-hilaire-saint-mesmin.fr
SUMMARY:Exposition les Peintres en herbe
DESCRIPTION:L’Été est à notre porte. C’est l’heure des expositions estivales. Les PEINTRES EN HERBE vous proposent de partager les 13-14-15 juin 2025 à la Salle Multi activités  rue du four à chaux ( à l’arrière du gymnase ) à St-Hilaire – Saint-Mesmin le résultat d’une année de travail durant laquelle chacun a pu s’exprimer selon sa sensibilité. Nous serons rejoints par l’atelier Mangas. \nHoraires d’ouverture de l’exposition : \nVendredi 13 juin :14 h -18 h Samedi 14 juin et Dimanche 15 juin : 10h30-18h \nVernissage : samedi 14 juin 2025 à 11h30 \nDeux artistes locaux nous font l’honneur de se joindre à nous : Claire PÉLISSIÉ   Sculptrice\, Michel BOUGAS peintre du trompe l’œil. \nEntrée libre. Cette année en partenariat avec les commerçants et artisans hilairois et non hilairois\, une tombola sera mise en place. \nDe nombreux lots dont des aquarelles des PEH vous récompenseront de votre     générosité. Venez nombreux. \n 
URL:https://www.saint-hilaire-saint-mesmin.fr/event/exposition-les-peintres-en-herbe/
LOCATION:Salle multi-activités
END:VEVENT
BEGIN:VEVENT
DTSTART;TZID=Europe/Paris:20250614T100000
DTEND;TZID=Europe/Paris:20250614T170000
DTSTAMP:20260420T003308
CREATED:20250526T072435Z
LAST-MODIFIED:20250526T072435Z
UID:3133-1749895200-1749920400@www.saint-hilaire-saint-mesmin.fr
SUMMARY:24 heures de la biodiversité/mon jardin au naturel
DESCRIPTION:24h de la biodiversité/mon jardin naturel samedi 14 juin de 10 h à 17h \nJournée et animations ouvertes à toutes et tous\, dans le cadre des journées d’Orléans Métropole « 24H de la BioDiversité » et de « Mon jardin au naturel » initiée par Loiret Nature Environnement : \n¨ Visite du jardin pour échanger nos pratiques et astuces autour du jardinage au naturel. \n¨ Jeu : La roue de la Bio-Diversité. \n¨ Safari compost. \n¨ Démonstration de cuisson au « Tube solaire ». \n¨ Bombe à graines. \n¨ Information de la LNE sur le moustique tigre. \nExposition du Coquelicot. \n 
URL:https://www.saint-hilaire-saint-mesmin.fr/event/24-heures-de-la-biodiversite-mon-jardin-au-naturel/
LOCATION:Jardin partagé\, Allée de la Pie\, St-Hiliare-St-Mesmin\, 45160\, France
ATTACH;FMTTYPE=image/jpeg:https://www.saint-hilaire-saint-mesmin.fr/wp-content/uploads/2025/05/affiche-definitive-en-JPEG.jpg
ORGANIZER;CN="Le Coquelicot":MAILTO:associationlecoquelicot@gmail.com 
END:VEVENT
BEGIN:VEVENT
DTSTART;TZID=Europe/Paris:20250614T143000
DTEND;TZID=Europe/Paris:20250614T163000
DTSTAMP:20260420T003308
CREATED:20250526T072333Z
LAST-MODIFIED:20250526T072333Z
UID:3131-1749911400-1749918600@www.saint-hilaire-saint-mesmin.fr
SUMMARY:24 heures de la biodiversité
DESCRIPTION:samedi 14 juin  2015 Rendez-vous  à 14h30  au Pâtis au pied de la face nord de la mairie  pour une balade de 2 heures \nA la découverte des richesses naturelles du Pâtis\, Venez découvrir les super héros de la nature. \nLes résurgences de l’Archer sont empreintes de mystères et suscitent la curiosité mais vous saurez bientôt tout sur la circulation de l’eau. Sous la surface se développent des espèces adaptées à la vie aquatique : respiration avec un tuba\, construction d’un abri pour se cacher des prédateurs\, bouche télescopique pour attraper une proie… Le long du chemin qui borde l’Archer puis la rivière du Loiret\, venez découvrir une plante surprenante qui perd ses feuilles en été et fleurit en  automne\, admirer le bleu du flamboyant Martin-Pêcheur filant au ras de l’eau  ou de l’Hoplie bleue à la carapace métallisée. \nLes animateurs de l’association Loiret-Nature-Environnement accompagnés d’un membre de l’association Spéléologique Subaquatique du Loiret vous accompagneront au cours d’une balade nature pour vous faire découvrir cette     nature étonnante. \n 
URL:https://www.saint-hilaire-saint-mesmin.fr/event/24-heures-de-la-biodiversite/
LOCATION:Site du Pâtis\, St-Hilaire-St-Mesmin\, France
ATTACH;FMTTYPE=image/png:https://www.saint-hilaire-saint-mesmin.fr/wp-content/uploads/2025/05/24-h-de-la-biodiversite.png
END:VEVENT
BEGIN:VEVENT
DTSTART;TZID=Europe/Paris:20250614T150000
DTEND;TZID=Europe/Paris:20250614T180000
DTSTAMP:20260420T003308
CREATED:20250526T071954Z
LAST-MODIFIED:20250526T071954Z
UID:3126-1749913200-1749924000@www.saint-hilaire-saint-mesmin.fr
SUMMARY:Fête de l'école élémentaire
DESCRIPTION:C’est reparti! \nLa fête de l’école élémentaire de St-Hilaire-St-Mesmin se déroulera le samedi 14 juin 2025\, à l’école élémentaire de 15h à 18h. La soirée se terminant avec un repas convivial. \nRenseignements auprès de l’équipe enseignante. \n 
URL:https://www.saint-hilaire-saint-mesmin.fr/event/fete-de-lecole-elementaire-2/
LOCATION:École élémentaire
ATTACH;FMTTYPE=image/png:https://www.saint-hilaire-saint-mesmin.fr/wp-content/uploads/2023/05/kermesseFichier-1.png
END:VEVENT
BEGIN:VEVENT
DTSTART;TZID=Europe/Paris:20250614T193000
DTEND;TZID=Europe/Paris:20250614T220000
DTSTAMP:20260420T003308
CREATED:20250526T073114Z
LAST-MODIFIED:20250526T073114Z
UID:3142-1749929400-1749938400@www.saint-hilaire-saint-mesmin.fr
SUMMARY:Guinguette de la Médonnière
DESCRIPTION:
URL:https://www.saint-hilaire-saint-mesmin.fr/event/guinguette-de-la-medonniere-2/
LOCATION:Maison Anne et Siméon\, 89 rue du Haut Midi\, Saint-Hilaire-Saint-Mesmin\, France
END:VEVENT
BEGIN:VEVENT
DTSTART;TZID=Europe/Paris:20250620T203000
DTEND;TZID=Europe/Paris:20250620T203000
DTSTAMP:20260420T003308
CREATED:20250604T081706Z
LAST-MODIFIED:20250604T144237Z
UID:3152-1750451400-1750451400@www.saint-hilaire-saint-mesmin.fr
SUMMARY:La troupe de la Luette vous présente :
DESCRIPTION:Titre :              30 ANS … Peuchère ! \nSous-titre :  ça s’fête sur la Canebière \n  \nDates :   Vendredi 20 juin à 20h30  \nDimanche 22 juin à 18h \n  \nLieu : Salle des fêtes de St Hilaire St Mesmin \n                          Entrée libre \n  \nTexte :  Et oui peuchère\, La Luette a déjà 30 ans ! Direction Marseille pour fêter ça sur la Canebière\, avec des mélodies qui réveilleront des souvenirs baignés de soleil.
URL:https://www.saint-hilaire-saint-mesmin.fr/event/la-troupe-de-la-luette-vous-presente/
LOCATION:Salle Madeleine Tabart\, St-Hilaire-St-Mesmin\, France
ATTACH;FMTTYPE=image/jpeg:https://www.saint-hilaire-saint-mesmin.fr/wp-content/uploads/2025/06/la-luette-06-2025.jpg
END:VEVENT
BEGIN:VEVENT
DTSTART;TZID=Europe/Paris:20250621T080000
DTEND;TZID=Europe/Paris:20250621T170000
DTSTAMP:20260420T003308
CREATED:20250506T070023Z
LAST-MODIFIED:20250506T070023Z
UID:3113-1750492800-1750525200@www.saint-hilaire-saint-mesmin.fr
SUMMARY:Concours de pâtisseries
DESCRIPTION:
URL:https://www.saint-hilaire-saint-mesmin.fr/event/concours-de-patisseries/
LOCATION:Maison Anne et Siméon\, 89 rue du Haut Midi\, Saint-Hilaire-Saint-Mesmin\, France
ATTACH;FMTTYPE=image/png:https://www.saint-hilaire-saint-mesmin.fr/wp-content/uploads/2025/04/concours-patisserie-2025.png
END:VEVENT
BEGIN:VEVENT
DTSTART;TZID=Europe/Paris:20250621T190000
DTEND;TZID=Europe/Paris:20250621T230000
DTSTAMP:20260420T003308
CREATED:20250526T072902Z
LAST-MODIFIED:20250526T072902Z
UID:3138-1750532400-1750546800@www.saint-hilaire-saint-mesmin.fr
SUMMARY:Fête de la musique
DESCRIPTION:Pour fêter l’arrivée de l’été\, L’association FESTHILAIRE organise  la FÊTE  DE  LA  MUSIQUE :  Samedi 21 juin.   Place des fêtes. Cette année sous une nouvelle forme : \n\n19H: Scène ouverte.\n20H30: Concert rock gratuit  Avec Les CHILLIDOGS. (buvette et restauration sur place)\n\nPour finir l’été en beauté\, rendez-vous donné le dimanche 21 septembre pour un festival de spectacles de rue ‘’Y a d’la joie’’\, dans un cadre surprise. Information complète début septembre…AMBIANCE FAMILIALE. \n 
URL:https://www.saint-hilaire-saint-mesmin.fr/event/fete-de-la-musique-3/
LOCATION:Place des fêtes\, Saint-Hilaire-Saint-Mesmin\, 45160
END:VEVENT
BEGIN:VEVENT
DTSTART;TZID=Europe/Paris:20250622T093000
DTEND;TZID=Europe/Paris:20250622T190000
DTSTAMP:20260420T003308
CREATED:20250526T073259Z
LAST-MODIFIED:20250526T073259Z
UID:3144-1750584600-1750618800@www.saint-hilaire-saint-mesmin.fr
SUMMARY:Exposition Photo
DESCRIPTION:
URL:https://www.saint-hilaire-saint-mesmin.fr/event/exposition-photo/
ATTACH;FMTTYPE=image/jpeg:https://www.saint-hilaire-saint-mesmin.fr/wp-content/uploads/2025/05/expo-22-juin-2025.jpg
END:VEVENT
BEGIN:VEVENT
DTSTART;TZID=Europe/Paris:20250622T180000
DTEND;TZID=Europe/Paris:20250622T180000
DTSTAMP:20260420T003308
CREATED:20250604T081736Z
LAST-MODIFIED:20250604T144253Z
UID:3155-1750615200-1750615200@www.saint-hilaire-saint-mesmin.fr
SUMMARY:La troupe de la Luette vous présente :
DESCRIPTION:Titre :              30 ANS … Peuchère ! \nSous-titre :  ça s’fête sur la Canebière \n  \nDates :   Vendredi 20 juin à 20h30 \nDimanche 22 juin à 18h \n  \nLieu : Salle des fêtes de St Hilaire St Mesmin \n                          Entrée libre \n  \nTexte :  Et oui peuchère\, La Luette a déjà 30 ans ! Direction Marseille pour fêter ça sur la Canebière\, avec des mélodies qui réveilleront des souvenirs baignés de soleil.
URL:https://www.saint-hilaire-saint-mesmin.fr/event/la-troupe-de-la-luette-vous-presente-2/
LOCATION:Salle Madeleine Tabart\, St-Hilaire-St-Mesmin\, France
ATTACH;FMTTYPE=image/jpeg:https://www.saint-hilaire-saint-mesmin.fr/wp-content/uploads/2025/06/la-luette-06-2025.jpg
END:VEVENT
BEGIN:VEVENT
DTSTART;TZID=Europe/Paris:20250625T133000
DTEND;TZID=Europe/Paris:20250625T170000
DTSTAMP:20260420T003308
CREATED:20250526T072751Z
LAST-MODIFIED:20250526T072751Z
UID:3135-1750858200-1750870800@www.saint-hilaire-saint-mesmin.fr
SUMMARY:Challenge Vélo
DESCRIPTION:Mercredi 25 juin à partir de 13h30\, Place des Fêtes\, venez assister à la finale du « challenge vélo » organisée par la Prévention Routière. Au programme : \n\nInitiations aux gestes qui sauvent\nParcours d’agilité\nSimulations de conduite\nJeux et animations pour enfants\nEt la spectaculaire voiture tonneau\, pour expérimenter (en toute sécurité) les effets d’un retournement de véhicule\n\nOuvert à toutes et tous\, entrée libre ! \n 
URL:https://www.saint-hilaire-saint-mesmin.fr/event/challenge-velo/
LOCATION:Place des fêtes\, Saint-Hilaire-Saint-Mesmin\, 45160
ATTACH;FMTTYPE=image/png:https://www.saint-hilaire-saint-mesmin.fr/wp-content/uploads/2025/05/velo.png
END:VEVENT
END:VCALENDAR