BEGIN:VCALENDAR
VERSION:2.0
PRODID:-//Mairie Saint-Hilaire-Saint-Mesmin - ECPv6.15.17.1//NONSGML v1.0//EN
CALSCALE:GREGORIAN
METHOD:PUBLISH
X-WR-CALNAME:Mairie Saint-Hilaire-Saint-Mesmin
X-ORIGINAL-URL:https://www.saint-hilaire-saint-mesmin.fr
X-WR-CALDESC:Évènements pour Mairie Saint-Hilaire-Saint-Mesmin
REFRESH-INTERVAL;VALUE=DURATION:PT1H
X-Robots-Tag:noindex
X-PUBLISHED-TTL:PT1H
BEGIN:VTIMEZONE
TZID:Europe/Paris
BEGIN:DAYLIGHT
TZOFFSETFROM:+0100
TZOFFSETTO:+0200
TZNAME:CEST
DTSTART:20240331T010000
END:DAYLIGHT
BEGIN:STANDARD
TZOFFSETFROM:+0200
TZOFFSETTO:+0100
TZNAME:CET
DTSTART:20241027T010000
END:STANDARD
BEGIN:DAYLIGHT
TZOFFSETFROM:+0100
TZOFFSETTO:+0200
TZNAME:CEST
DTSTART:20250330T010000
END:DAYLIGHT
BEGIN:STANDARD
TZOFFSETFROM:+0200
TZOFFSETTO:+0100
TZNAME:CET
DTSTART:20251026T010000
END:STANDARD
BEGIN:DAYLIGHT
TZOFFSETFROM:+0100
TZOFFSETTO:+0200
TZNAME:CEST
DTSTART:20260329T010000
END:DAYLIGHT
BEGIN:STANDARD
TZOFFSETFROM:+0200
TZOFFSETTO:+0100
TZNAME:CET
DTSTART:20261025T010000
END:STANDARD
END:VTIMEZONE
BEGIN:VEVENT
DTSTART;TZID=Europe/Paris:20250511T090000
DTEND;TZID=Europe/Paris:20250511T120000
DTSTAMP:20260419T224051
CREATED:20250430T141719Z
LAST-MODIFIED:20250430T141719Z
UID:3082-1746954000-1746964800@www.saint-hilaire-saint-mesmin.fr
SUMMARY:Marché Mangeons Loiret
DESCRIPTION:Le dimanche 11 mai se tiendra le marché avec les producteurs habituels. Les asperges ainsi que les premières fraises feront l’étalage avec les légumes de printemps. Retrouvez aussi les crêpes Hilairoises et les cookies du  handball\, pour les enfants la structure gonflable. La Municipalité aura son stand où vous pourrez rencontrer des élus. Sans oublier le vide grenier : inscriptions au       07 65 61 19 07 \n 
URL:https://www.saint-hilaire-saint-mesmin.fr/event/marche-mangeons-loiret-6/
LOCATION:Sur le Mail
ORGANIZER;CN="Mairie":MAILTO:mairie@mairie-st-hilaire-st-mesmin.fr
END:VEVENT
BEGIN:VEVENT
DTSTART;TZID=Europe/Paris:20250511T090000
DTEND;TZID=Europe/Paris:20250511T120000
DTSTAMP:20260419T224051
CREATED:20250506T064227Z
LAST-MODIFIED:20250506T064227Z
UID:3094-1746954000-1746964800@www.saint-hilaire-saint-mesmin.fr
SUMMARY:Matinée jeux de société
DESCRIPTION:
URL:https://www.saint-hilaire-saint-mesmin.fr/event/matinee-jeux-de-societe/
LOCATION:Sur le Mail
ORGANIZER;CN="Mairie":MAILTO:mairie@mairie-st-hilaire-st-mesmin.fr
END:VEVENT
BEGIN:VEVENT
DTSTART;TZID=Europe/Paris:20250511T093000
DTEND;TZID=Europe/Paris:20250511T120000
DTSTAMP:20260419T224051
CREATED:20250506T064116Z
LAST-MODIFIED:20250506T064116Z
UID:3092-1746955800-1746964800@www.saint-hilaire-saint-mesmin.fr
SUMMARY:Troc aux plantes du Coquelicot
DESCRIPTION:
URL:https://www.saint-hilaire-saint-mesmin.fr/event/troc-aux-plantes-du-coquelicot/
LOCATION:Sur le Mail
ATTACH;FMTTYPE=image/jpeg:https://www.saint-hilaire-saint-mesmin.fr/wp-content/uploads/2025/05/affiche-pour-troc-plantes.jpg
ORGANIZER;CN="Le Coquelicot":MAILTO:associationlecoquelicot@gmail.com 
END:VEVENT
BEGIN:VEVENT
DTSTART;TZID=Europe/Paris:20250511T100000
DTEND;TZID=Europe/Paris:20250511T120000
DTSTAMP:20260419T224051
CREATED:20250506T064917Z
LAST-MODIFIED:20250506T064917Z
UID:3099-1746957600-1746964800@www.saint-hilaire-saint-mesmin.fr
SUMMARY:Solidarité
DESCRIPTION:L’hiver est passé. Pour autant\, pour celles et ceux qui vivent dans la rue\, se nourrir reste difficile. Exemple : à quelques kilomètres seulement de St-Hilaire-St-Mesmin\, au pont de l’Europe. Pour tous ceux d’entre nous qui vivent sans cette épreuve\, que représente une boite de conserve dans notre budget ? \nNous vous invitons donc à faire don d’un aliment non périssable\, ne serait-ce qu’une simple boite de sardines au profit de l’association Les mains tendues.  \nle DIMANCHE 11 MAI sur le mail de 10 à 12h Si vous ne pouvez pas vous y rendre\, sachez que l’armoire solidaire est toujours présente Allée d’Erkheim \n 
URL:https://www.saint-hilaire-saint-mesmin.fr/event/solidarite/
LOCATION:Place des fêtes\, Saint-Hilaire-Saint-Mesmin\, 45160
ATTACH;FMTTYPE=image/jpeg:https://www.saint-hilaire-saint-mesmin.fr/wp-content/uploads/2023/01/Collecte-alimentaire-scaled.jpeg
END:VEVENT
BEGIN:VEVENT
DTSTART;TZID=Europe/Paris:20250517T090000
DTEND;TZID=Europe/Paris:20250517T120000
DTSTAMP:20260419T224051
CREATED:20250506T064641Z
LAST-MODIFIED:20250506T064641Z
UID:3096-1747472400-1747483200@www.saint-hilaire-saint-mesmin.fr
SUMMARY:Atelier participatif
DESCRIPTION:Vous avez envie de mettre la main à la pâte ?  La commune organise un atelier participatif pour construire ensemble le mobilier de la guinguette du  Pâtis ! \nRendez-vous le samedi 17 mai 2025\, au Pâtis\, sur le site de la guinguette\, à partir de 9h00. \nTables\, bancs\, canapés… Venez partager un moment convivial et créatif\, en pleine nature. Apportez vos outils si vous en avez : visseuse\, ponceuse\, scie sauteuse.\nPas besoin d’être expert : bonne humeur et envie de participer suffisent ! \nUn petit café sera offert aux bricoleurs du jour. \nVous êtes invités dimanche 11 mai\, à donner votre avis pour le nom de la prochaine guinguette\, sur le marché\, au stand de la mairie. \n 
URL:https://www.saint-hilaire-saint-mesmin.fr/event/atelier-participatif/
LOCATION:Site du Pâtis\, St-Hilaire-St-Mesmin\, France
ATTACH;FMTTYPE=image/png:https://www.saint-hilaire-saint-mesmin.fr/wp-content/uploads/2025/05/bricolageFichier-2.png
ORGANIZER;CN="Mairie":MAILTO:mairie@mairie-st-hilaire-st-mesmin.fr
END:VEVENT
BEGIN:VEVENT
DTSTART;TZID=Europe/Paris:20250517T203000
DTEND;TZID=Europe/Paris:20250517T203000
DTSTAMP:20260419T224051
CREATED:20250506T065111Z
LAST-MODIFIED:20250506T065111Z
UID:3101-1747513800-1747513800@www.saint-hilaire-saint-mesmin.fr
SUMMARY:Concert de printemps de la Pie Chorus
DESCRIPTION:La Chorale LA PIE CHORUS (St Hilaire) organise son concert de printemps \, accompagnée du chœur Val Canto de St Jean le Blanc\,  le samedi 17 mai 2025 à 20H30 à la salle des fêtes. Participation libre. » \n 
URL:https://www.saint-hilaire-saint-mesmin.fr/event/concert-de-printemps-de-la-pie-chorus/
LOCATION:Salle Madeleine Tabart\, St-Hilaire-St-Mesmin\, France
ATTACH;FMTTYPE=image/png:https://www.saint-hilaire-saint-mesmin.fr/wp-content/uploads/2024/04/choraleFichier-1.png
END:VEVENT
BEGIN:VEVENT
DTSTART;TZID=Europe/Paris:20250518T160000
DTEND;TZID=Europe/Paris:20250518T170000
DTSTAMP:20260419T224051
CREATED:20250506T065208Z
LAST-MODIFIED:20250506T065208Z
UID:3103-1747584000-1747587600@www.saint-hilaire-saint-mesmin.fr
SUMMARY:Fugueuses
DESCRIPTION:
URL:https://www.saint-hilaire-saint-mesmin.fr/event/fugueuses/
LOCATION:Maison Anne et Siméon\, 89 rue du Haut Midi\, Saint-Hilaire-Saint-Mesmin\, France
END:VEVENT
BEGIN:VEVENT
DTSTART;TZID=Europe/Paris:20250524T093000
DTEND;TZID=Europe/Paris:20250525T180000
DTSTAMP:20260419T224051
CREATED:20250506T065312Z
LAST-MODIFIED:20250506T065312Z
UID:3105-1748079000-1748196000@www.saint-hilaire-saint-mesmin.fr
SUMMARY:Exposition Club Photo
DESCRIPTION:
URL:https://www.saint-hilaire-saint-mesmin.fr/event/exposition-club-photo/
LOCATION:Salle multi-activités
END:VEVENT
BEGIN:VEVENT
DTSTART;TZID=Europe/Paris:20250524T203000
DTEND;TZID=Europe/Paris:20250524T203000
DTSTAMP:20260419T224051
CREATED:20250506T065628Z
LAST-MODIFIED:20250506T065628Z
UID:3107-1748118600-1748118600@www.saint-hilaire-saint-mesmin.fr
SUMMARY:Concert de l'Harmonie de Saint-Hilaire
DESCRIPTION:
URL:https://www.saint-hilaire-saint-mesmin.fr/event/concert-de-lharmonie-de-saint-hilaire/
LOCATION:Gymnase\, Rue du Four à chaux\, Saint-Hilaire-Saint-Mesmin
END:VEVENT
END:VCALENDAR