BEGIN:VCALENDAR
VERSION:2.0
PRODID:-//Mairie Saint-Hilaire-Saint-Mesmin - ECPv6.15.17.1//NONSGML v1.0//EN
CALSCALE:GREGORIAN
METHOD:PUBLISH
X-WR-CALNAME:Mairie Saint-Hilaire-Saint-Mesmin
X-ORIGINAL-URL:https://www.saint-hilaire-saint-mesmin.fr
X-WR-CALDESC:Évènements pour Mairie Saint-Hilaire-Saint-Mesmin
REFRESH-INTERVAL;VALUE=DURATION:PT1H
X-Robots-Tag:noindex
X-PUBLISHED-TTL:PT1H
BEGIN:VTIMEZONE
TZID:Europe/Paris
BEGIN:DAYLIGHT
TZOFFSETFROM:+0100
TZOFFSETTO:+0200
TZNAME:CEST
DTSTART:20240331T010000
END:DAYLIGHT
BEGIN:STANDARD
TZOFFSETFROM:+0200
TZOFFSETTO:+0100
TZNAME:CET
DTSTART:20241027T010000
END:STANDARD
BEGIN:DAYLIGHT
TZOFFSETFROM:+0100
TZOFFSETTO:+0200
TZNAME:CEST
DTSTART:20250330T010000
END:DAYLIGHT
BEGIN:STANDARD
TZOFFSETFROM:+0200
TZOFFSETTO:+0100
TZNAME:CET
DTSTART:20251026T010000
END:STANDARD
BEGIN:DAYLIGHT
TZOFFSETFROM:+0100
TZOFFSETTO:+0200
TZNAME:CEST
DTSTART:20260329T010000
END:DAYLIGHT
BEGIN:STANDARD
TZOFFSETFROM:+0200
TZOFFSETTO:+0100
TZNAME:CET
DTSTART:20261025T010000
END:STANDARD
END:VTIMEZONE
BEGIN:VEVENT
DTSTART;TZID=Europe/Paris:20250301T193000
DTEND;TZID=Europe/Paris:20250301T193000
DTSTAMP:20260419T191724
CREATED:20250213T100750Z
LAST-MODIFIED:20250213T100750Z
UID:2972-1740857400-1740857400@www.saint-hilaire-saint-mesmin.fr
SUMMARY:Conférence musicale sur l'opéra Carmen
DESCRIPTION:Grâce au partenariat de la municipalité avec la    Fabrique Opéra\, pour la 10ème édition de la Fabrique Opéra Val de Loire\, la Société Musicale recevra le chef d’orchestre Clément JOUBERT qui vous contera l’opéra Carmen\, avec la complicité de l’harmonie. Cela se passera le samedi 1er mars à 19h30 à la salle  multiactivités du gymnase. Entrée gratuite. \n 
URL:https://www.saint-hilaire-saint-mesmin.fr/event/conference-musicale-sur-lopera-carmen/
LOCATION:Salle multi-activités
ATTACH;FMTTYPE=image/jpeg:https://www.saint-hilaire-saint-mesmin.fr/wp-content/uploads/2025/02/carmen.jpg
END:VEVENT
BEGIN:VEVENT
DTSTART;TZID=Europe/Paris:20250308T100000
DTEND;TZID=Europe/Paris:20250308T170000
DTSTAMP:20260419T191724
CREATED:20250217T150131Z
LAST-MODIFIED:20250217T150131Z
UID:2989-1741428000-1741453200@www.saint-hilaire-saint-mesmin.fr
SUMMARY:CARNAVAL de l'APESH
DESCRIPTION:Le Carnaval des enfants organisé par l’APESH se déroulera le samedi 8 mars 2025 : rendez-vous à 10h devant la Salle des Fêtes Madeleine Tabart ! Le défilé se fera en musique\, en compagnie de l’Harmonie de St-Hilaire-St-Mesmin. Des confettis seront en vente sur place et ce moment festif se terminera par le verre de l’amitié sur la place des fêtes. \n 
URL:https://www.saint-hilaire-saint-mesmin.fr/event/carnaval-de-lapesh-3/
LOCATION:Place des fêtes\, Saint-Hilaire-Saint-Mesmin\, 45160
ATTACH;FMTTYPE=image/png:https://www.saint-hilaire-saint-mesmin.fr/wp-content/uploads/2025/02/CARNAVAL.png
ORGANIZER;CN="APESH":MAILTO:ape.sthilairestmesmin@gmail.com
END:VEVENT
BEGIN:VEVENT
DTSTART;TZID=Europe/Paris:20250308T203000
DTEND;TZID=Europe/Paris:20250308T223000
DTSTAMP:20260419T191724
CREATED:20250217T144952Z
LAST-MODIFIED:20250217T144952Z
UID:2979-1741465800-1741473000@www.saint-hilaire-saint-mesmin.fr
SUMMARY:CONCERT FESTIF : CELTIK'RAIC
DESCRIPTION:Samedi 8 mars / 20H30 // Salle des fêtes. \nEn ce début d’année\, l’association Festhilaire vous propose un concert aux multiples influences\, et invite à la fête. \nCeltik’raic est un quartet Orléanais de « folk/musiques du monde » aux influences diverses\, tantôt jazz\, celtique\, rock ou brésilien. Il vous fait voyager à travers ses compositions originales et ses arrangements peu conventionnels de traditionnels irlandais. \nEntrée :  12 € (- de 16 ans : 7 €) \nRéservations au : 06.81.42.90.59 ou sur festhilaire@gmail.com \nAude Prieur : Flutiste et directrice artistique. \nFlorence Schleiss : Harpe celtique. \nMatthias Boudeau : accordéon. \nJohan Cortes : batterie
URL:https://www.saint-hilaire-saint-mesmin.fr/event/concert-festif-celtikraic/
LOCATION:Salle Madeleine Tabart\, St-Hilaire-St-Mesmin\, France
ATTACH;FMTTYPE=image/jpeg:https://www.saint-hilaire-saint-mesmin.fr/wp-content/uploads/2025/02/PHOTO-COULEUR-CELTIK-RAIC-scaled.jpg
END:VEVENT
BEGIN:VEVENT
DTSTART;TZID=Europe/Paris:20250310T180000
DTEND;TZID=Europe/Paris:20250310T200000
DTSTAMP:20260419T191724
CREATED:20250217T145805Z
LAST-MODIFIED:20250217T145805Z
UID:2986-1741629600-1741636800@www.saint-hilaire-saint-mesmin.fr
SUMMARY:Conférence Ma Métro Rénov'
DESCRIPTION:Pour répondre aux enjeux de transition écologique et énergétique de son territoire\, Orléans Métropole accompagne les propriétaires privés dans la rénovation de leur habitat. Une conférence Ma Métro Rénov’ aura lieu le lundi 10 mars à 18h salle des fêtes Madeleine TABART afin d’informer et de conseiller les habitants et de communiquer sur les travaux de rénovation énergétique de l’habitat privé. \n 
URL:https://www.saint-hilaire-saint-mesmin.fr/event/conference-ma-metro-renov/
LOCATION:Salle Madeleine Tabart\, St-Hilaire-St-Mesmin\, France
ATTACH;FMTTYPE=image/png:https://www.saint-hilaire-saint-mesmin.fr/wp-content/uploads/2025/02/Ma-metro-renov.png
ORGANIZER;CN="Mairie":MAILTO:mairie@mairie-st-hilaire-st-mesmin.fr
END:VEVENT
BEGIN:VEVENT
DTSTART;VALUE=DATE:20250316
DTEND;VALUE=DATE:20250317
DTSTAMP:20260419T191724
CREATED:20250217T150259Z
LAST-MODIFIED:20250217T150259Z
UID:2992-1742083200-1742169599@www.saint-hilaire-saint-mesmin.fr
SUMMARY:VIDE-PUÉRICULTURE
DESCRIPTION:L’Eco Handball et L’APESH organisent une brocante autour de l’univers de l’enfant le dimanche 16 mars 2025 au gymnase de St-Hilaire-St-Mesmin de 9h à 17h (habits bébés et enfants\, jeux et jouets\, livres\, matériel de puériculture…). Vous souhaitez  exposer ? 3 euros le mètre\, dans la limite des places disponibles. Documents d’inscription fournis sur demande\, auprès de ape.sthilairestmesmin@gmail.com \n 
URL:https://www.saint-hilaire-saint-mesmin.fr/event/vide-puericulture/
LOCATION:Gymnase\, Rue du Four à chaux\, Saint-Hilaire-Saint-Mesmin
ATTACH;FMTTYPE=image/png:https://www.saint-hilaire-saint-mesmin.fr/wp-content/uploads/2025/02/vide-puericultureFichier-1.png
ORGANIZER;CN="APESH":MAILTO:ape.sthilairestmesmin@gmail.com
END:VEVENT
BEGIN:VEVENT
DTSTART;TZID=Europe/Paris:20250319T180000
DTEND;TZID=Europe/Paris:20250319T180000
DTSTAMP:20260419T191724
CREATED:20250217T145555Z
LAST-MODIFIED:20250217T145555Z
UID:2984-1742407200-1742407200@www.saint-hilaire-saint-mesmin.fr
SUMMARY:Commémoration du 19 mars
DESCRIPTION:Rassemblement à 18h au monument aux morts\, dépôt de gerbes suivi d’un vin d’honneur à la salle des fêtes. \n 
URL:https://www.saint-hilaire-saint-mesmin.fr/event/commemoration-du-19-mars-3/
LOCATION:Monument aux morts\, France
ATTACH;FMTTYPE=image/jpeg:https://www.saint-hilaire-saint-mesmin.fr/wp-content/uploads/2022/03/Drapeau-francais.jpg
ORGANIZER;CN="Mairie":MAILTO:mairie@mairie-st-hilaire-st-mesmin.fr
END:VEVENT
BEGIN:VEVENT
DTSTART;VALUE=DATE:20250320
DTEND;VALUE=DATE:20250321
DTSTAMP:20260419T191724
CREATED:20250217T145431Z
LAST-MODIFIED:20250217T145431Z
UID:2982-1742428800-1742515199@www.saint-hilaire-saint-mesmin.fr
SUMMARY:La grande lessive
DESCRIPTION:« La Grande Lessive® »\,  \nrevient sur St-Hilaire-St-Mesmin en mars 2025 et c’est  ouvert à tous les habitants ! \nCette manifestation internationale est un projet collaboratif et participatif autour d’une production artistique éphémère. \nCette année le thème est : « Du papier\, des papiers\, vos papiers » \nPour y participer\, créez une œuvre artistique (photographie\, dessin\, peinture\, collage…) sur le thème indiqué ci-dessus\, dans un format unique A4 non plastifié\, signez la et venez l’accrocher sur les fils prévus à cet effet le jour J. \nA vos créations et rendez-vous jeudi 20 mars place des Fêtes pour l’étendage collectif ! \n® Marque déposée par sa créatrice Joëlle Gonthier : www.lagrandelessive.net \nLes enfants inscrits au périscolaire du soir se retrouveront Place des fêtes après l’école pour y accrocher leur œuvre et prendre leur goûter. Les familles viendront\, exceptionnellement récupérer leur(s) enfant(s) à cet endroit. Un pot de remerciement sera offert par la municipalité pour clôturer l’évènement. \n 
URL:https://www.saint-hilaire-saint-mesmin.fr/event/la-grande-lessive-4/
LOCATION:Place des fêtes\, Saint-Hilaire-Saint-Mesmin\, 45160
ATTACH;FMTTYPE=image/jpeg:https://www.saint-hilaire-saint-mesmin.fr/wp-content/uploads/2025/02/des-papiers-scaled.jpeg
ORGANIZER;CN="Mairie":MAILTO:mairie@mairie-st-hilaire-st-mesmin.fr
END:VEVENT
BEGIN:VEVENT
DTSTART;TZID=Europe/Paris:20250323T123000
DTEND;TZID=Europe/Paris:20250323T170000
DTSTAMP:20260419T191724
CREATED:20250217T150427Z
LAST-MODIFIED:20250217T150427Z
UID:2995-1742733000-1742749200@www.saint-hilaire-saint-mesmin.fr
SUMMARY:Repas des ainés
DESCRIPTION:Comme chaque année\, la Municipalité vous convie au repas des personnes âgées de 70 ans et plus. Rendez-vous dimanche 23 Mars prochain à 12h30 au restaurant scolaire. \nAttention\, inscription obligatoire en Mairie au 02.38.76.30.24 ou à l’Agence Postale Communale au 02.38.59.73.59 avant le 07 mars 2025\, dans la limite des places  disponibles. \n 
URL:https://www.saint-hilaire-saint-mesmin.fr/event/repas-des-aines/
LOCATION:Restaurant scolaire
ATTACH;FMTTYPE=image/jpeg:https://www.saint-hilaire-saint-mesmin.fr/wp-content/uploads/2023/04/Fotolia_91040683_XS.jpg
ORGANIZER;CN="Mairie":MAILTO:mairie@mairie-st-hilaire-st-mesmin.fr
END:VEVENT
END:VCALENDAR