BEGIN:VCALENDAR
VERSION:2.0
PRODID:-//Mairie Saint-Hilaire-Saint-Mesmin - ECPv6.15.17.1//NONSGML v1.0//EN
CALSCALE:GREGORIAN
METHOD:PUBLISH
X-ORIGINAL-URL:https://www.saint-hilaire-saint-mesmin.fr
X-WR-CALDESC:Évènements pour Mairie Saint-Hilaire-Saint-Mesmin
REFRESH-INTERVAL;VALUE=DURATION:PT1H
X-Robots-Tag:noindex
X-PUBLISHED-TTL:PT1H
BEGIN:VTIMEZONE
TZID:Europe/Paris
BEGIN:DAYLIGHT
TZOFFSETFROM:+0100
TZOFFSETTO:+0200
TZNAME:CEST
DTSTART:20240331T010000
END:DAYLIGHT
BEGIN:STANDARD
TZOFFSETFROM:+0200
TZOFFSETTO:+0100
TZNAME:CET
DTSTART:20241027T010000
END:STANDARD
BEGIN:DAYLIGHT
TZOFFSETFROM:+0100
TZOFFSETTO:+0200
TZNAME:CEST
DTSTART:20250330T010000
END:DAYLIGHT
BEGIN:STANDARD
TZOFFSETFROM:+0200
TZOFFSETTO:+0100
TZNAME:CET
DTSTART:20251026T010000
END:STANDARD
BEGIN:DAYLIGHT
TZOFFSETFROM:+0100
TZOFFSETTO:+0200
TZNAME:CEST
DTSTART:20260329T010000
END:DAYLIGHT
BEGIN:STANDARD
TZOFFSETFROM:+0200
TZOFFSETTO:+0100
TZNAME:CET
DTSTART:20261025T010000
END:STANDARD
END:VTIMEZONE
BEGIN:VEVENT
DTSTART;TZID=Europe/Paris:20250214T140000
DTEND;TZID=Europe/Paris:20250214T170000
DTSTAMP:20260419T174534
CREATED:20250213T101012Z
LAST-MODIFIED:20250213T101012Z
UID:2974-1739541600-1739552400@www.saint-hilaire-saint-mesmin.fr
SUMMARY:Découverte des oiseaux au bord du Loiret
DESCRIPTION:Pour une meilleure connaissance de notre environnement \nProfitez des offres faites  par Loiret Nature Environnement (LNE) pour 2025 en  ateliers\, conférence\, sortie nature\,  valmares\, réserve naturelle\, Zéro pesticides) \nCalendrier imagé disponible sur  www.loiret-nature-environnement.org \nVendredi 14 février « Découverte des oiseaux au bord du Loiret » avec Loiret Nature Environnement\nRdv à 14h sur le parking de l’église (accès par la rue de l’église) à Saint-Hilaire-Saint-Mesmin \n 
URL:https://www.saint-hilaire-saint-mesmin.fr/event/decouverte-des-oiseaux-au-bord-du-loiret/
LOCATION:Parking de l’église
ATTACH;FMTTYPE=image/jpeg:https://www.saint-hilaire-saint-mesmin.fr/wp-content/uploads/2022/05/logoLNE-30ko.jpg
END:VEVENT
BEGIN:VEVENT
DTSTART;TZID=Europe/Paris:20250223T150000
DTEND;TZID=Europe/Paris:20250223T170000
DTSTAMP:20260419T174534
CREATED:20250213T100618Z
LAST-MODIFIED:20250213T100618Z
UID:2970-1740322800-1740330000@www.saint-hilaire-saint-mesmin.fr
SUMMARY:Concours de scrabble et belote
DESCRIPTION:
URL:https://www.saint-hilaire-saint-mesmin.fr/event/concours-de-scrabble-et-belote/
LOCATION:Maison Anne et Siméon\, 89 rue du Haut Midi\, Saint-Hilaire-Saint-Mesmin\, France
ATTACH;FMTTYPE=image/png:https://www.saint-hilaire-saint-mesmin.fr/wp-content/uploads/2025/02/concours-scrabble-et-belote.png
END:VEVENT
BEGIN:VEVENT
DTSTART;TZID=Europe/Paris:20250224T180000
DTEND;TZID=Europe/Paris:20250224T200000
DTSTAMP:20260419T174534
CREATED:20241231T094140Z
LAST-MODIFIED:20241231T094324Z
UID:2932-1740420000-1740427200@www.saint-hilaire-saint-mesmin.fr
SUMMARY:Stages des Peintres en herbe
DESCRIPTION:Les Peintres en Herbe organisent des stages de nu qui sont des occasions de s’exercer en dessin dans des conditions différentes de la photo. \nNous vous proposons deux stages de nu . Vous pouvez dès à présent bloquer les dates sur vos agendas : \n\n27 janvier de 18h à 20h\n24 février de 18h à 20h\n\nPour chaque stage \, Léa prof d’art plastique vous accompagne et  vous conseille afin de croquer au mieux le modèle. \nPrix adhérent : 26 euros pour deux heures de stage. \n 
URL:https://www.saint-hilaire-saint-mesmin.fr/event/stages-des-peintres-en-herbe-2/
ATTACH;FMTTYPE=image/jpeg:https://www.saint-hilaire-saint-mesmin.fr/wp-content/uploads/2024/12/nu-2.jpg
END:VEVENT
END:VCALENDAR