BEGIN:VCALENDAR
VERSION:2.0
PRODID:-//Mairie Saint-Hilaire-Saint-Mesmin - ECPv6.15.17.1//NONSGML v1.0//EN
CALSCALE:GREGORIAN
METHOD:PUBLISH
X-WR-CALNAME:Mairie Saint-Hilaire-Saint-Mesmin
X-ORIGINAL-URL:https://www.saint-hilaire-saint-mesmin.fr
X-WR-CALDESC:Évènements pour Mairie Saint-Hilaire-Saint-Mesmin
REFRESH-INTERVAL;VALUE=DURATION:PT1H
X-Robots-Tag:noindex
X-PUBLISHED-TTL:PT1H
BEGIN:VTIMEZONE
TZID:Europe/Paris
BEGIN:DAYLIGHT
TZOFFSETFROM:+0100
TZOFFSETTO:+0200
TZNAME:CEST
DTSTART:20240331T010000
END:DAYLIGHT
BEGIN:STANDARD
TZOFFSETFROM:+0200
TZOFFSETTO:+0100
TZNAME:CET
DTSTART:20241027T010000
END:STANDARD
BEGIN:DAYLIGHT
TZOFFSETFROM:+0100
TZOFFSETTO:+0200
TZNAME:CEST
DTSTART:20250330T010000
END:DAYLIGHT
BEGIN:STANDARD
TZOFFSETFROM:+0200
TZOFFSETTO:+0100
TZNAME:CET
DTSTART:20251026T010000
END:STANDARD
BEGIN:DAYLIGHT
TZOFFSETFROM:+0100
TZOFFSETTO:+0200
TZNAME:CEST
DTSTART:20260329T010000
END:DAYLIGHT
BEGIN:STANDARD
TZOFFSETFROM:+0200
TZOFFSETTO:+0100
TZNAME:CET
DTSTART:20261025T010000
END:STANDARD
END:VTIMEZONE
BEGIN:VEVENT
DTSTART;TZID=Europe/Paris:20250109T140000
DTEND;TZID=Europe/Paris:20250109T170000
DTSTAMP:20260419T154227
CREATED:20241231T093530Z
LAST-MODIFIED:20241231T093530Z
UID:2921-1736431200-1736442000@www.saint-hilaire-saint-mesmin.fr
SUMMARY:Club de l'amitié
DESCRIPTION:En route pour une nouvelle année associative : \nAttention jeudi 2 janvier\, il n’y aura pas de jeux à la salle multi-activité\, reprise le jeudi 9 janvier à 14h00. Assemblée Générale le jeudi 16 janvier à la salle des fêtes suivie d’un repas à 12h30 (réservation obligatoire). \nVous êtes retraités\, vous avez du temps libre venez nous rejoindre le jeudi après-midi salle multi-activités autour de jeux de cartes et pour nos diverses sorties et repas tout au long de l’année\, cotisation annuelle 20€.  \nPour tous renseignements : Appeler Carole au 06.76.45.94.78 ou faire un mail : clubdelamitie45160@laposte.net \n 
URL:https://www.saint-hilaire-saint-mesmin.fr/event/club-de-lamitie-4/
ATTACH;FMTTYPE=image/png:https://www.saint-hilaire-saint-mesmin.fr/wp-content/uploads/2023/04/jeux-ensembleFichier-1.png
END:VEVENT
BEGIN:VEVENT
DTSTART;TZID=Europe/Paris:20250111T203000
DTEND;TZID=Europe/Paris:20250112T150000
DTSTAMP:20260419T154227
CREATED:20241231T093745Z
LAST-MODIFIED:20241231T093745Z
UID:2923-1736627400-1736694000@www.saint-hilaire-saint-mesmin.fr
SUMMARY:THÉÂTRE ORGANISÉ par la CONFRÉRIE DE LA CERISE
DESCRIPTION:Week-end théâtral les samedi 11 janvier à 20 h 30 et dimanche 12 janvier à 15 h à la salle des fêtes Madeleine Tabart – Venez vous détendre en famille !  avec des acteurs locaux de La Fraternelle \n » De gaffe en gaffe et c ‘est dom…mage «   : comédie – un couple de charlatans se lance dans la voyance et se retrouve dans une situation pleine de gaffes et de       quiproquos qui vont faire douter les quelques clients … \nentrée 10 € – organisation Confrérie de la Cerise \n 
URL:https://www.saint-hilaire-saint-mesmin.fr/event/theatre-organise-par-la-confrerie-de-la-cerise/
LOCATION:Salle Madeleine Tabart\, St-Hilaire-St-Mesmin\, France
ATTACH;FMTTYPE=image/jpeg:https://www.saint-hilaire-saint-mesmin.fr/wp-content/uploads/2024/12/theatre.jpg
END:VEVENT
BEGIN:VEVENT
DTSTART;TZID=Europe/Paris:20250125T203000
DTEND;TZID=Europe/Paris:20250126T170000
DTSTAMP:20260419T154227
CREATED:20241231T093902Z
LAST-MODIFIED:20241231T093902Z
UID:2926-1737837000-1737910800@www.saint-hilaire-saint-mesmin.fr
SUMMARY:La Luette Présente :
DESCRIPTION:« Nous sommes en 2031 après Jésus-Christ. Toute la France est végétarienne. Toute ? Non ! Un village d’irréductibles bourgeois résiste encore et toujours. Et la vie n’est pas facile pour les forces de l’ordre.\nLa Luette vous a mitonné un spectacle en forme de ragoût particulièrement relevé\, dont le fumet vous ravira.\nNous vous invitons à partager ce festin de contrebande\, carné et musical.\nIl y est question de pâtés avec de vrais morceaux d’opérettes dedans… » \n 
URL:https://www.saint-hilaire-saint-mesmin.fr/event/la-luette-presente/
LOCATION:Salle Madeleine Tabart\, St-Hilaire-St-Mesmin\, France
ATTACH;FMTTYPE=image/jpeg:https://www.saint-hilaire-saint-mesmin.fr/wp-content/uploads/2024/12/Luette_BA_25_26_01_2025.jpg
END:VEVENT
BEGIN:VEVENT
DTSTART;TZID=Europe/Paris:20250126T150000
DTEND;TZID=Europe/Paris:20250126T170000
DTSTAMP:20260419T154227
CREATED:20241231T093958Z
LAST-MODIFIED:20241231T093958Z
UID:2928-1737903600-1737910800@www.saint-hilaire-saint-mesmin.fr
SUMMARY:LOTO de la Médo
DESCRIPTION:
URL:https://www.saint-hilaire-saint-mesmin.fr/event/loto-de-la-medo-2/
LOCATION:La Médonnière\, 89 rue du Haut Midi\, Saint-Hilaire-Saint-Mesmin\, 45160\, France
ATTACH;FMTTYPE=image/png:https://www.saint-hilaire-saint-mesmin.fr/wp-content/uploads/2024/12/loto-2025.png
END:VEVENT
BEGIN:VEVENT
DTSTART;TZID=Europe/Paris:20250127T180000
DTEND;TZID=Europe/Paris:20250127T200000
DTSTAMP:20260419T154227
CREATED:20241231T094108Z
LAST-MODIFIED:20241231T094300Z
UID:2930-1738000800-1738008000@www.saint-hilaire-saint-mesmin.fr
SUMMARY:Stages des Peintres en herbe
DESCRIPTION:Les Peintres en Herbe organisent des stages de nu qui sont des occasions de s’exercer en dessin dans des conditions différentes de la photo. \nNous vous proposons deux stages de nu . Vous pouvez dès à présent bloquer les dates sur vos agendas : \n\n27 janvier de 18h à 20h\n24 février de 18h à 20h\n\nPour chaque stage \, Léa prof d’art plastique vous accompagne et  vous conseille afin de croquer au mieux le modèle. \nPrix adhérent : 26 euros pour deux heures de stage. \n 
URL:https://www.saint-hilaire-saint-mesmin.fr/event/stages-des-peintres-en-herbe/
ATTACH;FMTTYPE=image/jpeg:https://www.saint-hilaire-saint-mesmin.fr/wp-content/uploads/2024/12/nu-2.jpg
END:VEVENT
END:VCALENDAR