BEGIN:VCALENDAR
VERSION:2.0
PRODID:-//Mairie Saint-Hilaire-Saint-Mesmin - ECPv6.15.20//NONSGML v1.0//EN
CALSCALE:GREGORIAN
METHOD:PUBLISH
X-WR-CALNAME:Mairie Saint-Hilaire-Saint-Mesmin
X-ORIGINAL-URL:https://www.saint-hilaire-saint-mesmin.fr
X-WR-CALDESC:Évènements pour Mairie Saint-Hilaire-Saint-Mesmin
REFRESH-INTERVAL;VALUE=DURATION:PT1H
X-Robots-Tag:noindex
X-PUBLISHED-TTL:PT1H
BEGIN:VTIMEZONE
TZID:Europe/Paris
BEGIN:DAYLIGHT
TZOFFSETFROM:+0100
TZOFFSETTO:+0200
TZNAME:CEST
DTSTART:20250330T010000
END:DAYLIGHT
BEGIN:STANDARD
TZOFFSETFROM:+0200
TZOFFSETTO:+0100
TZNAME:CET
DTSTART:20251026T010000
END:STANDARD
BEGIN:DAYLIGHT
TZOFFSETFROM:+0100
TZOFFSETTO:+0200
TZNAME:CEST
DTSTART:20260329T010000
END:DAYLIGHT
BEGIN:STANDARD
TZOFFSETFROM:+0200
TZOFFSETTO:+0100
TZNAME:CET
DTSTART:20261025T010000
END:STANDARD
BEGIN:DAYLIGHT
TZOFFSETFROM:+0100
TZOFFSETTO:+0200
TZNAME:CEST
DTSTART:20270328T010000
END:DAYLIGHT
BEGIN:STANDARD
TZOFFSETFROM:+0200
TZOFFSETTO:+0100
TZNAME:CET
DTSTART:20271031T010000
END:STANDARD
END:VTIMEZONE
BEGIN:VEVENT
DTSTART;TZID=Europe/Paris:20260223T143000
DTEND;TZID=Europe/Paris:20260605T170000
DTSTAMP:20260423T104641
CREATED:20260318T075933Z
LAST-MODIFIED:20260318T075933Z
UID:3467-1771857000-1780678800@www.saint-hilaire-saint-mesmin.fr
SUMMARY:EXPOSITION à la Médiathèque
DESCRIPTION:Depuis le lundi 23 février 2026\, Les Peintres en herbe ont mis en place à la Médiathèque une exposition d’oeuvres réalisées par les adhérents. \nVous pourrez voir huiles\, aquarelles\, pastels réalisés avec l’accompagnement de LEA notre professeure. \nLa variété des expressions picturales présentées sur les murs vient en miroir avec la variété des oeuvres littéraires  proposées dans les bacs. \nLes tableaux seront visibles jusqu’à fin mai aux jours et heures d’ouverture de la médiathèque: \nLundi : 14h30 – 18h00 \nSauf pendant les vacances scolaires \nMercredi : 14h30 – 18h00 \nSamedi : 9h00- 12h30 \nPoussez la porte de la bibliothèque et devant les oeuvres\, laissez vous emporter par votre imagination et peut-être votre envie de nous rejoindre. \nLes PEH proposent toute une gamme de tarifs\, adhésion à l’année\, stage adulte ou enfant\, carte 10 cours ou bien encore carte Kdo.
URL:https://www.saint-hilaire-saint-mesmin.fr/event/exposition-a-la-mediatheque/
LOCATION:Médiathèque
ATTACH;FMTTYPE=image/jpeg:https://www.saint-hilaire-saint-mesmin.fr/wp-content/uploads/2021/07/55e54b9919fdc_logo.jpg
END:VEVENT
BEGIN:VEVENT
DTSTART;TZID=Europe/Paris:20260420T140000
DTEND;TZID=Europe/Paris:20260426T170000
DTSTAMP:20260423T104641
CREATED:20260318T075504Z
LAST-MODIFIED:20260318T075504Z
UID:3465-1776693600-1777222800@www.saint-hilaire-saint-mesmin.fr
SUMMARY:EXPOSITION Anne et Siméon
DESCRIPTION:
URL:https://www.saint-hilaire-saint-mesmin.fr/event/exposition-anne-et-simeon/
LOCATION:Maison Anne et Siméon\, 89 rue du Haut Midi\, Saint-Hilaire-Saint-Mesmin\, France
ATTACH;FMTTYPE=image/png:https://www.saint-hilaire-saint-mesmin.fr/wp-content/uploads/2026/03/expo-200426.png
END:VEVENT
BEGIN:VEVENT
DTSTART;TZID=Europe/Paris:20260421T190000
DTEND;TZID=Europe/Paris:20260421T220000
DTSTAMP:20260423T104641
CREATED:20260318T075041Z
LAST-MODIFIED:20260318T080148Z
UID:3459-1776798000-1776808800@www.saint-hilaire-saint-mesmin.fr
SUMMARY:Tour de France PianoVélo
DESCRIPTION:  \nMARDI 21 AVRIL – 19 h – Salle des fêtes – Tarif : Participation libre. \nTrois associations\, Le Coquelicot\, Aux Actes citoyens et Festhilaire se regroupent pour l’accueil exceptionnel du « Tour de France PianoVélo ». Il s’agit d’un spectacle musical\, où les chansons composées par les 2 artistes regonflent les mollets et le moral\, au regard de nombreux sujets de société. \nTemps convivial autour d’un verre après le spectacle.  \nPlus d’information sur : pianovelo.fr  /// Ou par téléphone au : 06.88.80.05.78
URL:https://www.saint-hilaire-saint-mesmin.fr/event/3459/
LOCATION:Salle des fêtes\, St-Hilaire-St-Mesmin\, France
ATTACH;FMTTYPE=image/jpeg:https://www.saint-hilaire-saint-mesmin.fr/wp-content/uploads/2026/03/affiche-tour-de-France.jpg-5-mo-scaled.jpg
END:VEVENT
END:VCALENDAR